BEGIN:VCALENDAR
VERSION:2.0
PRODID:-//Cambridge Right to Life - ECPv6.15.20//NONSGML v1.0//EN
CALSCALE:GREGORIAN
METHOD:PUBLISH
X-ORIGINAL-URL:https://cambridgerighttolife.ca
X-WR-CALDESC:Events for Cambridge Right to Life
REFRESH-INTERVAL;VALUE=DURATION:PT1H
X-Robots-Tag:noindex
X-PUBLISHED-TTL:PT1H
BEGIN:VTIMEZONE
TZID:America/Toronto
BEGIN:DAYLIGHT
TZOFFSETFROM:-0500
TZOFFSETTO:-0400
TZNAME:EDT
DTSTART:20220313T070000
END:DAYLIGHT
BEGIN:STANDARD
TZOFFSETFROM:-0400
TZOFFSETTO:-0500
TZNAME:EST
DTSTART:20221106T060000
END:STANDARD
BEGIN:DAYLIGHT
TZOFFSETFROM:-0500
TZOFFSETTO:-0400
TZNAME:EDT
DTSTART:20230312T070000
END:DAYLIGHT
BEGIN:STANDARD
TZOFFSETFROM:-0400
TZOFFSETTO:-0500
TZNAME:EST
DTSTART:20231105T060000
END:STANDARD
BEGIN:DAYLIGHT
TZOFFSETFROM:-0500
TZOFFSETTO:-0400
TZNAME:EDT
DTSTART:20240310T070000
END:DAYLIGHT
BEGIN:STANDARD
TZOFFSETFROM:-0400
TZOFFSETTO:-0500
TZNAME:EST
DTSTART:20241103T060000
END:STANDARD
END:VTIMEZONE
BEGIN:VEVENT
DTSTART;TZID=America/Toronto:20230525T190000
DTEND;TZID=America/Toronto:20230525T210000
DTSTAMP:20260425T141443
CREATED:20220424T213218Z
LAST-MODIFIED:20230424T173334Z
UID:4271-1685041200-1685048400@cambridgerighttolife.ca
SUMMARY:Coffee & Dessert Evening
DESCRIPTION:Coffee & Dessert Evening\nThursday\, May 25th at 7:00 pm\nLocation: Galt Legion (4 Veteran’s Way)\nJoin us for our Coffee & Dessert Evening to hear Alex Schadenberg\, Executive Director of the Euthanasia Prevention Coalition.\nCost: Free Will Offering\nCall 519.623.1850 to reserve your seat \nPlease note: We wll be using a new sound system
URL:https://cambridgerighttolife.ca/event/coffee-dessert-evening/
LOCATION:The Galt Legion\, 4 Veterans Way\, Cambridge\, Ontario
CATEGORIES:Coffee & Dessert,Respect Life Month
ATTACH;FMTTYPE=image/png:https://cambridgerighttolife.ca/wp-content/uploads/2022/04/dessert.png
ORGANIZER;CN="Cambridge Right to Life":MAILTO:info@cambridgerighttolife.ca
END:VEVENT
BEGIN:VEVENT
DTSTART;TZID=America/Toronto:20230511T123000
DTEND;TZID=America/Toronto:20230511T223000
DTSTAMP:20260425T141443
CREATED:20220424T214340Z
LAST-MODIFIED:20230424T174108Z
UID:4277-1683808200-1683844200@cambridgerighttolife.ca
SUMMARY:March For Life
DESCRIPTION:The National March For Life will take place in Ottawa  on parliament Hill on May 11\, 2023.  \nA coach bus will be leaving from the Basilica of Our Lady (28 Norfolk St.\, Guelph) at 6:00 am and leave Ottawa at 4 pm to return to the Basilica parking lot.  See the March For Life website for other details. \nCost: $30 per person. Payment is due by May 1st. Students are free – contact CRTL office to arrange your seat at 519 623 1850. \n12:30 pm – Rally on Parliament Hill  \n1:30 pm – March downtown Ottawa \n2:30pm  – Silent No More Awareness Presentations \nClick here for details of the 2023 March for Life. \n 
URL:https://cambridgerighttolife.ca/event/march-for-life/
LOCATION:28 Norfolk St.\, Guelph\, Church of Our Lady\, 28 Norfolk St\, Guelph\, Ontario\, Canada
CATEGORIES:March for Life,Respect Life Month
ATTACH;FMTTYPE=image/png:https://cambridgerighttolife.ca/wp-content/uploads/2022/04/M4L.png
END:VEVENT
BEGIN:VEVENT
DTSTART;TZID=America/Toronto:20230428T190000
DTEND;TZID=America/Toronto:20230623T200000
DTSTAMP:20260425T141443
CREATED:20220424T212516Z
LAST-MODIFIED:20230424T172605Z
UID:4267-1682708400-1687550400@cambridgerighttolife.ca
SUMMARY:MINI-LIFE CHAINS
DESCRIPTION:As part of our Respect Life Month activities\, we will have host Mini Life Chains\, during the months of April\, May\, and June. \nDates: April 28th\, May 26th\, June 23rd\nTime: 7:00 – 8:00 pm.\nNEW LOCATION: Hespeler Road (Mall side) at Dunbar\, across from the new LCBO.  \nSigns will be provided \nFor many years Cambridge Right to Life has designated the month of May as “Respect Life Month”. \n 
URL:https://cambridgerighttolife.ca/event/mini-life-chains/
LOCATION:Hespeler Road\, Hespeler Rd\, Cambridge\, ON\, N1R 7R9\, Canada
CATEGORIES:Life Chain,mini-life-chain,Respect Life Month
ATTACH;FMTTYPE=image/png:https://cambridgerighttolife.ca/wp-content/uploads/2022/04/lifechain.png
ORGANIZER;CN="Cambridge Right to Life":MAILTO:info@cambridgerighttolife.ca
END:VEVENT
END:VCALENDAR