BEGIN:VCALENDAR
VERSION:2.0
PRODID:-//Cambridge Right to Life - ECPv6.15.20//NONSGML v1.0//EN
CALSCALE:GREGORIAN
METHOD:PUBLISH
X-ORIGINAL-URL:https://cambridgerighttolife.ca
X-WR-CALDESC:Events for Cambridge Right to Life
REFRESH-INTERVAL;VALUE=DURATION:PT1H
X-Robots-Tag:noindex
X-PUBLISHED-TTL:PT1H
BEGIN:VTIMEZONE
TZID:America/Toronto
BEGIN:DAYLIGHT
TZOFFSETFROM:-0500
TZOFFSETTO:-0400
TZNAME:EDT
DTSTART:20220313T070000
END:DAYLIGHT
BEGIN:STANDARD
TZOFFSETFROM:-0400
TZOFFSETTO:-0500
TZNAME:EST
DTSTART:20221106T060000
END:STANDARD
BEGIN:DAYLIGHT
TZOFFSETFROM:-0500
TZOFFSETTO:-0400
TZNAME:EDT
DTSTART:20230312T070000
END:DAYLIGHT
BEGIN:STANDARD
TZOFFSETFROM:-0400
TZOFFSETTO:-0500
TZNAME:EST
DTSTART:20231105T060000
END:STANDARD
BEGIN:DAYLIGHT
TZOFFSETFROM:-0500
TZOFFSETTO:-0400
TZNAME:EDT
DTSTART:20240310T070000
END:DAYLIGHT
BEGIN:STANDARD
TZOFFSETFROM:-0400
TZOFFSETTO:-0500
TZNAME:EST
DTSTART:20241103T060000
END:STANDARD
END:VTIMEZONE
BEGIN:VTIMEZONE
TZID:UTC
BEGIN:STANDARD
TZOFFSETFROM:+0000
TZOFFSETTO:+0000
TZNAME:UTC
DTSTART:20210101T000000
END:STANDARD
END:VTIMEZONE
BEGIN:VEVENT
DTSTART;TZID=America/Toronto:20230923T093000
DTEND;TZID=America/Toronto:20230923T120000
DTSTAMP:20260425T184512
CREATED:20230911T202719Z
LAST-MODIFIED:20230911T205027Z
UID:4384-1695461400-1695470400@cambridgerighttolife.ca
SUMMARY:2023 WALK FOR LIFE
DESCRIPTION:Join us for our 2023 Walk for Life in person or remotely on Saturday\, September 23rd.\nPlease note our new location.\nGrace Bible Church: 2 Grand Ave. South\nAccess: side entrance of the parking lot from Salisbury Ave.\nAdditional parking: The Bread Factory & Library\nRefreshments to follow \nRegistration begins at 9:30 am and the walk commences at 10:00. Refreshments will follow the walk. There is a chance for prizes for students who participate for every $10 pledge raised. Students can earn volunteer hours as well. \nTO WALK REMOTELY: as in the past 2 years many of you have walked remotely on our behalf to raise funds. If you prefer this option again this year please collect sponsors\, gather as a family and/or grab a few friends and choose a 5km route of your choice and walk on or around September 24th. \nCall our office at 519.623.1850. to obtain a sponsor sheet to record your list of sponsors. Also\, you can arrange to pickup a “Choose Life” Shirt for the Walk.
URL:https://cambridgerighttolife.ca/event/2023-walk-for-life/
LOCATION:Grace Bible Church\, 2 Grand Ave. South\, Cambridge\, Ontario
CATEGORIES:Walk For Life
ATTACH;FMTTYPE=image/png:https://cambridgerighttolife.ca/wp-content/uploads/2023/09/2023_CRTL_W4L_EVENT-1.png
ORGANIZER;CN="Cambridge Right to Life":MAILTO:info@cambridgerighttolife.ca
END:VEVENT
BEGIN:VEVENT
DTSTART;TZID=UTC:20220924T093000
DTEND;TZID=UTC:20220924T120000
DTSTAMP:20260425T184512
CREATED:20220910T170558Z
LAST-MODIFIED:20220910T171007Z
UID:4313-1664011800-1664020800@cambridgerighttolife.ca
SUMMARY:Walk for Life 2022
DESCRIPTION:Join us for our 2022 Walk for Life in person or remotely on Saturday\, September 24th. The IN PERSON WALK will take place at the Galt Legion with registration at 9:30am and the walk beginning at 10:00am. Refreshments will follow the walk. \nThere is a chance for prizes for students who participate for every $10 pledge raised. Students can earn volunteer hours as well. \nTO WALK REMOTELY: as in the past 2 years many of you have walked remotely on our behalf to raise funds. If you prefer this option again this year please collect sponsors\, gather as a family and/or grab a few friends and choose a 5km route of your choice and walk on or around September 24th. \nCall our office at 519.623.1850. to obtain a sponsor sheet to record your list of sponsors. Also\, you can arrange to pickup a “Choose Life” Shirt for the Walk.
URL:https://cambridgerighttolife.ca/event/walk-for-life-2022/
LOCATION:The Galt Legion\, 4 Veterans Way\, Cambridge\, Ontario
CATEGORIES:Walk For Life
ATTACH;FMTTYPE=image/jpeg:https://cambridgerighttolife.ca/wp-content/uploads/2022/09/W4L-Fundraiser.jpg
ORGANIZER;CN="Cambridge Right to Life":MAILTO:info@cambridgerighttolife.ca
END:VEVENT
END:VCALENDAR