BEGIN:VCALENDAR
VERSION:2.0
PRODID:-//Cambridge Right to Life - ECPv6.15.20//NONSGML v1.0//EN
CALSCALE:GREGORIAN
METHOD:PUBLISH
X-WR-CALNAME:Cambridge Right to Life
X-ORIGINAL-URL:https://cambridgerighttolife.ca
X-WR-CALDESC:Events for Cambridge Right to Life
REFRESH-INTERVAL;VALUE=DURATION:PT1H
X-Robots-Tag:noindex
X-PUBLISHED-TTL:PT1H
BEGIN:VTIMEZONE
TZID:America/New_York
BEGIN:DAYLIGHT
TZOFFSETFROM:-0500
TZOFFSETTO:-0400
TZNAME:EDT
DTSTART:20180311T070000
END:DAYLIGHT
BEGIN:STANDARD
TZOFFSETFROM:-0400
TZOFFSETTO:-0500
TZNAME:EST
DTSTART:20181104T060000
END:STANDARD
BEGIN:DAYLIGHT
TZOFFSETFROM:-0500
TZOFFSETTO:-0400
TZNAME:EDT
DTSTART:20190310T070000
END:DAYLIGHT
BEGIN:STANDARD
TZOFFSETFROM:-0400
TZOFFSETTO:-0500
TZNAME:EST
DTSTART:20191103T060000
END:STANDARD
BEGIN:DAYLIGHT
TZOFFSETFROM:-0500
TZOFFSETTO:-0400
TZNAME:EDT
DTSTART:20200308T070000
END:DAYLIGHT
BEGIN:STANDARD
TZOFFSETFROM:-0400
TZOFFSETTO:-0500
TZNAME:EST
DTSTART:20201101T060000
END:STANDARD
BEGIN:DAYLIGHT
TZOFFSETFROM:-0500
TZOFFSETTO:-0400
TZNAME:EDT
DTSTART:20210314T070000
END:DAYLIGHT
BEGIN:STANDARD
TZOFFSETFROM:-0400
TZOFFSETTO:-0500
TZNAME:EST
DTSTART:20211107T060000
END:STANDARD
BEGIN:DAYLIGHT
TZOFFSETFROM:-0500
TZOFFSETTO:-0400
TZNAME:EDT
DTSTART:20220313T070000
END:DAYLIGHT
BEGIN:STANDARD
TZOFFSETFROM:-0400
TZOFFSETTO:-0500
TZNAME:EST
DTSTART:20221106T060000
END:STANDARD
END:VTIMEZONE
BEGIN:VEVENT
DTSTART;TZID=America/New_York:20211003T140000
DTEND;TZID=America/New_York:20211003T150000
DTSTAMP:20260425T193108
CREATED:20210914T163739Z
LAST-MODIFIED:20210914T163739Z
UID:4225-1633269600-1633273200@cambridgerighttolife.ca
SUMMARY:Life Chain 2021
DESCRIPTION:Be a voice for the voiceless and join the peaceful witness to life on Sunday October 3rd from 2:00 to 3:00pm along Hespeler Rd. Signs are provided. \nPlease call our office at 519.623.1850 if you have any questions.
URL:https://cambridgerighttolife.ca/event/life-chain-2021/
LOCATION:Hespeler Road\, Hespeler Rd\, Cambridge\, ON\, N1R 7R9\, Canada
ATTACH;FMTTYPE=image/png:https://cambridgerighttolife.ca/wp-content/uploads/2021/09/FB_CRTL-Life-Chain.png
END:VEVENT
BEGIN:VEVENT
DTSTART;VALUE=DATE:20210925
DTEND;VALUE=DATE:20210926
DTSTAMP:20260425T193108
CREATED:20210914T160836Z
LAST-MODIFIED:20210914T163018Z
UID:4214-1632528000-1632614399@cambridgerighttolife.ca
SUMMARY:Walk for Life 2021
DESCRIPTION:The Walk for Life is our biggest fundraiser of the year\, and this year’s event will take place Saturday\, September 25th. However\, due to the continued state of the COVID-19 pandemic\, the CRTL board decided to hold the event remotely to allow for social distancing. \nPlease consider the following options to help make our fundraiser a success: \nPARTICIPATE AS A WALKER \n\nCollect sponsors\, gather as a family or grab a few friends and walk remotely on a (5km) route of your choice\, on or around September 25th.\nContact our office to arrange for curbside pickup of a loaner Choose Life T-Shirt!\n\nSUPPORT A WALKER \n\nSponsor someone you know who will be walking remotely. Contact the office to find out if your church or group has a delegate walking.\n\nDONATE – You can donate 3 easy ways: \n\nSend a cheque via regular mail\nSend an e-transfer to info@cambridgerighttolife.ca using the security question: What do we defend? with the answer: Life\nDonate securely online through our Canada Helps page on our website at cambridgerighttolife.ca/donate/canada-helps/ and click on the highlighted link: CanadaHelps\, and follow the prompts.\n\nTo obtain a sponsor sheet\, you can call our office at 519.623.1850 or email us using the form below. Once you have your sponsor sheet\, record your list of sponsors and arrange for a time to drop off your sponsor sheet and the funds you have collected. \nThank you in advance for your participation and generosity. Stay safe and have fun! \n\n\n                 \n \n                        Name*\n                            \n                            \n                                                    \n                                                    First\n                                                \n                            \n                            \n                                                    \n                                                    Last\n                                                \n                            \n                        Email*\n                            \n                        PhoneYour MessageCAPTCHA
URL:https://cambridgerighttolife.ca/event/walk-for-life-2021/
LOCATION:ON
ATTACH;FMTTYPE=image/png:https://cambridgerighttolife.ca/wp-content/uploads/2021/09/W4L_2021_remote.png
ORGANIZER;CN="Cambridge Right to Life":MAILTO:info@cambridgerighttolife.ca
END:VEVENT
BEGIN:VEVENT
DTSTART;VALUE=DATE:20200926
DTEND;VALUE=DATE:20200927
DTSTAMP:20260425T193108
CREATED:20200803T153458Z
LAST-MODIFIED:20200804T145923Z
UID:4129-1601078400-1601164799@cambridgerighttolife.ca
SUMMARY:Walk for Life 2020
DESCRIPTION:The Walk for Life is our biggest fundraiser of the year\, and this year’s event was  scheduled for September 26th. However\, due to the continued state of the COVID-19 pandemic\, the CRTL board decided to hold the event remotely to allow for social distancing. \nSo we’re encouraging our supporters to walk remotely on or around September 26th on a route of your choice\, (approximately 5 km. long) either individually or together with your circle of friends in your neighbourhood\, while adhering to the physical and social distancing regulations. \nWhile we can’t celebrate in person together this year\, we remain committed to raising awareness on the value of every human life and the harm abortion does to women and their babies. \nPlease consider the following options to help make our fundraiser a success: \n\nPARTICIPATE AS A WALKER\nCollect sponsors\, gather as a family or grab a few friends and walk remotely on a route of your choice on or around September 26th. Contact the office to arrange for curbside pickup of a loaner Choose Life T-Shirt!\nSUPPORT A WALKER\nSponsor someone you know who will be walking remotely. Contact the office to find out if your church or group has a delegate  walking.\nDONATE\nYou can donate 3 easy ways:\na) Send a cheque via regular mail (10 Water St.\, S.\, Unit 102 Cambridge\, ON  N1R 3C5 ).\nb) Send an e-transfer to info@cambridgerighttolife.ca using the security question: What do we defend?\, with the answer: Life.\nc) Donate securely online through our Canada Helps page and click the highlighted link and follow the prompts.\n\nTo obtain a sponsor sheet\, you can call our office at 519.623.1850 or email us using the form below. Once you have your sponsor sheet\, record your list of sponsors and arrange for a time to drop off your sponsor sheet and the funds you have collected. \nThank you in advance for your participation and generosity. Stay safe and have fun! \n\n                 \n \n                        Name*\n                            \n                            \n                                                    \n                                                    First\n                                                \n                            \n                            \n                                                    \n                                                    Last\n                                                \n                            \n                        Email*\n                            \n                        PhoneYour MessageCAPTCHA
URL:https://cambridgerighttolife.ca/event/walk-for-life-2020/
LOCATION:ON
ATTACH;FMTTYPE=image/png:https://cambridgerighttolife.ca/wp-content/uploads/2020/08/W4L_Your_Way.png
ORGANIZER;CN="Cambridge Right to Life":MAILTO:info@cambridgerighttolife.ca
END:VEVENT
BEGIN:VEVENT
DTSTART;TZID=America/New_York:20191127T120000
DTEND;TZID=America/New_York:20191127T130000
DTSTAMP:20260425T193108
CREATED:20191030T165536Z
LAST-MODIFIED:20191030T170156Z
UID:3868-1574856000-1574859600@cambridgerighttolife.ca
SUMMARY:2019 AGM
DESCRIPTION:Join us for our 2019 AGM\nBrown Bag It and join us over the lunch hour to hear about our pro-life initiatives. (Desserts will be served). \nWednesday\, November  27\, 2019\n12:00pm – 1:00pm\nThe Legion (4 Veterans Way\, Cambridge)\nAgenda\n\n Meeting called to order\nAcceptance of agenda\nReports\nReport on Financial Statements 2018/19\nNominations from the floor/elections\nWalk for Life Prizes\nMeeting Adjournment\n\n If you are a current member of CRTL\, you can nominate individuals to serve on the board.  \nClick here to download a Nomination Form. \n Please Note:\nIf you are a current member of CRTL\, you can contact our office to request a copy of the 2018/19 Financial Statements and 2018 AGM Minutes anytime after our year-end\, October 31st. \n 
URL:https://cambridgerighttolife.ca/event/2019-agm/
LOCATION:The Galt Legion\, 4 Veterans Way\, Cambridge\, Ontario
ATTACH;FMTTYPE=image/png:https://cambridgerighttolife.ca/wp-content/uploads/2019/10/Brown_Bag_it_AGM.png
END:VEVENT
BEGIN:VEVENT
DTSTART;TZID=America/New_York:20191006T020000
DTEND;TZID=America/New_York:20191006T030000
DTSTAMP:20260425T193108
CREATED:20190819T202606Z
LAST-MODIFIED:20190821T164449Z
UID:3579-1570327200-1570330800@cambridgerighttolife.ca
SUMMARY:Life Chain
DESCRIPTION:LIFE CHAIN\nPlease join us in silent prayer to end abortion in our country\, province & community! \nSunday\, October 6th from 2:00-3:00 pm along Hespeler Road\, near the Royal Bank and Value Village. \nDownload our poster to promote this event in your church\, school and community.
URL:https://cambridgerighttolife.ca/event/life-chain/
LOCATION:Hespeler Road\, Hespeler Rd\, Cambridge\, ON\, N1R 7R9\, Canada
ATTACH;FMTTYPE=image/png:https://cambridgerighttolife.ca/wp-content/uploads/2019/08/2019_Life_Chain_FB.png
ORGANIZER;CN="Cambridge Right to Life":MAILTO:info@cambridgerighttolife.ca
END:VEVENT
BEGIN:VEVENT
DTSTART;TZID=America/New_York:20190928T093000
DTEND;TZID=America/New_York:20190928T120000
DTSTAMP:20260425T193108
CREATED:20190819T195815Z
LAST-MODIFIED:20190819T202312Z
UID:3561-1569663000-1569672000@cambridgerighttolife.ca
SUMMARY:Walk for Life
DESCRIPTION:The Walk for Life 2019 takes place Saturday\, September 28th. Please plan to join us at this family friendly event as we walk to raise awareness and funds for Cambridge Right to Life’s life saving work. Lace up your walking shoes and tell your friends and family – we hope to see you there! \nWHEN:  Saturday\, September 28th\, 2019 \nWHERE: Registration begins at 9:30 am at The Legion (4 Veterans Way\, Cambridge). \nSTART: 10:00 am – NOON \nDownload flyer and post it at your church\, work\, school! Help us spread the word by using the flyer to invite your friends and family to join us  September 28th. \nStudents win a chance at prizes for every $10 pledge raised. \nFor Sponsor Sheets\, please contact Cambridge Right to Life at 519.623. 1850.
URL:https://cambridgerighttolife.ca/event/walk-for-life/
LOCATION:The Galt Legion\, 4 Veterans Way\, Cambridge\, Ontario
ATTACH;FMTTYPE=image/jpeg:https://cambridgerighttolife.ca/wp-content/uploads/2019/08/WFL_pic_web.jpg
ORGANIZER;CN="Cambridge Right to Life":MAILTO:info@cambridgerighttolife.ca
END:VEVENT
END:VCALENDAR